BEGIN:VCALENDAR
VERSION:2.0
PRODID:-//Open Door Health Center of Illinois - ECPv6.15.2//NONSGML v1.0//EN
CALSCALE:GREGORIAN
METHOD:PUBLISH
X-ORIGINAL-URL:https://odhcil.org
X-WR-CALDESC:Events for Open Door Health Center of Illinois
REFRESH-INTERVAL;VALUE=DURATION:PT1H
X-Robots-Tag:noindex
X-PUBLISHED-TTL:PT1H
BEGIN:VTIMEZONE
TZID:UTC
BEGIN:STANDARD
TZOFFSETFROM:+0000
TZOFFSETTO:+0000
TZNAME:UTC
DTSTART:20240101T000000
END:STANDARD
END:VTIMEZONE
BEGIN:VTIMEZONE
TZID:Atlantic/Azores
BEGIN:DAYLIGHT
TZOFFSETFROM:-0100
TZOFFSETTO:+0000
TZNAME:+00
DTSTART:20250330T010000
END:DAYLIGHT
BEGIN:STANDARD
TZOFFSETFROM:+0000
TZOFFSETTO:-0100
TZNAME:-01
DTSTART:20251026T010000
END:STANDARD
END:VTIMEZONE
BEGIN:VEVENT
DTSTART;TZID=UTC:20250627T100000
DTEND;TZID=UTC:20250627T150000
DTSTAMP:20260423T212338
CREATED:20250424T140055Z
LAST-MODIFIED:20250425T171407Z
UID:29861-1751018400-1751036400@odhcil.org
SUMMARY:National HIV Testing Day - Aurora
DESCRIPTION:National HIV Testing Day (NHTD) was first observed on June 27\, 1995. This is a day to encourage people to get tested for HIV\, know their status\, and get linked to care and treatment. Open Door Health Center of Illinois will offer free HIV and STI Testing at Walgreens as part of National HIV Testing Day.  Our community is encouraged to come out and get tested.
URL:https://odhcil.org/event/national-hiv-testing-day-aurora/
LOCATION:Walgreens\, 100 W Lincoln Highway\, DeKalb\, IL\, 60115\, United States
CATEGORIES:Community,Medical
ATTACH;FMTTYPE=image/jpeg:https://odhcil.org/wp-content/uploads/2025/04/National-HIV-Testing-Day.jpg
ORGANIZER;CN="Marcos Bostho":MAILTO:Marcosb@odhcil.org
END:VEVENT
BEGIN:VEVENT
DTSTART;TZID=UTC:20250621T120000
DTEND;TZID=UTC:20250621T160000
DTSTAMP:20260423T212338
CREATED:20250418T150448Z
LAST-MODIFIED:20250425T171615Z
UID:29825-1750507200-1750521600@odhcil.org
SUMMARY:CAB (Client Advisory Board) Bingo Party-June 21\, 2025   Noon to 4 PM
DESCRIPTION:Open Door Health Center of Illinois invites our clients\, staff and volunteers for a fun filled afternoon featuring a Bingo Party sponsored by the Client Advisory Board (CAB). Noon to 4 PM at the Elgin Location-1665 Larkin Avenue. Come out for an afternoon of games\, good vibes and exciting prizes. Don’t miss your chance to win! See you there! \nOur Bingo Party is free. Registration is required. To register\, click here.
URL:https://odhcil.org/event/cab-client-advisory-board-bingo-party-june-21-2025-noon-to-4-pm/
LOCATION:Open Door Health Center of Illinois Elgin Office\, 1665 Larkin Avenue\, Elgin\, 60123\, United States
CATEGORIES:Community,Fun
ATTACH;FMTTYPE=image/jpeg:https://odhcil.org/wp-content/uploads/2025/04/Bingo-with-link.jpg
ORGANIZER;CN="Mike Lopez":MAILTO:mikelopez7602@gmail.com
END:VEVENT
BEGIN:VEVENT
DTSTART;TZID=UTC:20250621T120000
DTEND;TZID=UTC:20250621T150000
DTSTAMP:20260423T212338
CREATED:20250519T192718Z
LAST-MODIFIED:20250519T192718Z
UID:29931-1750507200-1750518000@odhcil.org
SUMMARY:Casa Michoacan Panel in West Chicago
DESCRIPTION:Join us for an inspiring afternoon as a panel of clients share their powerful life journeys as members of the LGBTQIA+ community. Through stories of struggle\, strength\, and success\, we will honor the voices that too often go unheard.
URL:https://odhcil.org/event/casa-michoacan-panel-in-west-chicago/
LOCATION:Casa Michoacan\, 900 Roosevelt Rd\, West Chicago\, Illinois\, 60185\, United States
CATEGORIES:Community
ATTACH;FMTTYPE=image/png:https://odhcil.org/wp-content/uploads/2025/05/Casa-M.png
ORGANIZER;CN="Marcos Bostho":MAILTO:Marcosb@odhcil.org
END:VEVENT
BEGIN:VEVENT
DTSTART;TZID=UTC:20250619T110000
DTEND;TZID=UTC:20250619T130000
DTSTAMP:20260423T212338
CREATED:20250421T145513Z
LAST-MODIFIED:20250425T171739Z
UID:29856-1750330800-1750338000@odhcil.org
SUMMARY:Open Door Health Center of Illinois -Free & Confidential HIV Testing at Royal Plant Care
DESCRIPTION:Open Door Health Center of Illinois has partnered with Royal Plant Care to offer free and confidential HIV testing to our community. \nKnow Your Status. Prevent the Spread.
URL:https://odhcil.org/event/open-door-health-center-of-illinois-free-confidential-hiv-testing-at-royal-plant-care-2/
LOCATION:Royal Plant Care\, 54 National St. Suite A\, Elgin\, 60123`\, United States
CATEGORIES:Community,Medical
ATTACH;FMTTYPE=image/jpeg:https://odhcil.org/wp-content/uploads/2025/04/RoyalPlantCareFlyer-3.jpg
ORGANIZER;CN="Jamie Venson":MAILTO:Jamie@opendoorclinic.org
END:VEVENT
BEGIN:VEVENT
DTSTART;TZID=UTC:20250618T120000
DTEND;TZID=UTC:20250618T150000
DTSTAMP:20260423T212338
CREATED:20250520T171136Z
LAST-MODIFIED:20250520T171136Z
UID:29935-1750248000-1750258800@odhcil.org
SUMMARY:Juneteenth Celebration in Aurora
DESCRIPTION:Look for Open Door at the African American Men of Unity Juneteenth Celebration at Martin Luther King Park in Aurora.
URL:https://odhcil.org/event/juneteenth-celebration-in-aurora/
LOCATION:Martin Luther King Park\, 51 N Farnsworth Ave\, Aurora\, IL\, 60505\, United States
CATEGORIES:Community
ORGANIZER;CN="Marcos Bostho":MAILTO:Marcosb@odhcil.org
END:VEVENT
BEGIN:VEVENT
DTSTART;TZID=UTC:20250613T090000
DTEND;TZID=UTC:20250613T170000
DTSTAMP:20260423T212338
CREATED:20250418T201115Z
LAST-MODIFIED:20250425T172144Z
UID:29845-1749805200-1749834000@odhcil.org
SUMMARY:Free HIV/AIDS Testing  by Open Door Health Center of Illinois 06/13/2025
DESCRIPTION:Help raise awareness about the importance of\nHIV testing & take control of your sexual health! \nOpen Door Health Center of Illinois is partnering with BEA’s Touch of Style to provide Free and Confidential HIV/AIDS Testing. Stop by on June 13\, 2025. \nKnow Your Status.  Prevent the Spread.
URL:https://odhcil.org/event/free-hiv-aids-testing-by-open-door-health-center-of-illinois-06-13-2025/
LOCATION:BEA’s Touch of Style\, 1 National St.\, Elgin\, 60123\, United States
CATEGORIES:Community,Medical
ATTACH;FMTTYPE=image/png:https://odhcil.org/wp-content/uploads/2025/04/BeasTestingFlyer.png
ORGANIZER;CN="Jamie Venson":MAILTO:Jamie@opendoorclinic.org
END:VEVENT
BEGIN:VEVENT
DTSTART;TZID=UTC:20250608T120000
DTEND;TZID=UTC:20250608T140000
DTSTAMP:20260423T212338
CREATED:20250425T165507Z
LAST-MODIFIED:20250521T184751Z
UID:29892-1749384000-1749391200@odhcil.org
SUMMARY:Aurora Pride Parade and Festival
DESCRIPTION:​Open Door Health Center of Illinois (ODHCIL) is proud to announce its participation in the 6th Annual Aurora Pride Parade\, taking place on Sunday\, June 8\, 2025\, at noon in downtown Aurora. This vibrant event celebrates love\, equality\, and diversity\, drawing thousands of attendees from across the region. \n  \nVOLUNTEER REGISTRY HERE: Open Door Health Center Portal
URL:https://odhcil.org/event/aurora-pride-parade-and-festival/
LOCATION:Downtown Aurora\, E. Benton Street\, Aurora\, IL\, 60506\, United States
CATEGORIES:Community,Fun
ATTACH;FMTTYPE=image/jpeg:https://odhcil.org/wp-content/uploads/2025/04/Pride-Parade-1.jpg
ORGANIZER;CN="Marcos Bostho":MAILTO:Marcosb@odhcil.org
END:VEVENT
BEGIN:VEVENT
DTSTART;TZID=UTC:20250607T180000
DTEND;TZID=UTC:20250607T210000
DTSTAMP:20260423T212338
CREATED:20250520T172009Z
LAST-MODIFIED:20250521T184929Z
UID:29941-1749319200-1749330000@odhcil.org
SUMMARY:Aurora's Pride on the Plaza Event
DESCRIPTION:This will be an evening of good vibes\, music and celebration. Come join Open Door! \n  \nVOLUNTEER REGISTRY HERE: Open Door Health Center Portal
URL:https://odhcil.org/event/auroras-pride-on-the-plaza-event/
LOCATION:Millenium Plaza\, 11 S Stolp Ave\, Aurora\, IL\, 60506\, United States
CATEGORIES:Community,Fun
END:VEVENT
BEGIN:VEVENT
DTSTART;TZID=UTC:20250607T110000
DTEND;TZID=UTC:20250607T170000
DTSTAMP:20260423T212338
CREATED:20250425T164547Z
LAST-MODIFIED:20250521T184753Z
UID:29884-1749294000-1749315600@odhcil.org
SUMMARY:Elgin Pride Parade and Festival
DESCRIPTION:​Open Door Health Center of Illinois (ODHCIL) is excited to announce its participation in the upcoming Elgin Pride Parade\, scheduled for June 7\, 2025. This marks a significant step in ODHCIL’s ongoing commitment to fostering inclusivity and celebrating diversity within the community. \n  \nVOLUNTEER REGISTRY HERE: Open Door Health Center Portal
URL:https://odhcil.org/event/elgin-pride-parade-and-festival/
LOCATION:Elgin\, 132 S Grove Ave\, Elgin\, IL 60120\, 132 S Grove Ave\, Elgin\, IL\, 60120\, United States
CATEGORIES:Community,Fun
ATTACH;FMTTYPE=image/jpeg:https://odhcil.org/wp-content/uploads/2025/04/Pride-Parade.jpg
ORGANIZER;CN="Marcos Bostho":MAILTO:Marcosb@odhcil.org
END:VEVENT
BEGIN:VEVENT
DTSTART;TZID=UTC:20250606T110000
DTEND;TZID=UTC:20250606T120000
DTSTAMP:20260423T212338
CREATED:20250520T171617Z
LAST-MODIFIED:20250521T184931Z
UID:29938-1749207600-1749211200@odhcil.org
SUMMARY:Pride Flag Ceremony in Aurora
DESCRIPTION:The ceremony takes place outdoors at One Aurora Plaza\, located at 8 E. Galena Blvd. This is a good chance to meet the new Mayor John Laesch. \n  \nVOLUNTEER REGISTRY HERE: Open Door Health Center Portal
URL:https://odhcil.org/event/pride-flag-ceremony-in-aurora/
LOCATION:One Aurora Plaza\, 8 E. Galena Blvd\, Aurora\, IL\, 60506\, United States
CATEGORIES:Community,Fun
END:VEVENT
BEGIN:VEVENT
DTSTART;TZID=UTC:20250604T180000
DTEND;TZID=UTC:20250604T200000
DTSTAMP:20260423T212338
CREATED:20250424T164505Z
LAST-MODIFIED:20250425T155011Z
UID:29873-1749060000-1749067200@odhcil.org
SUMMARY:Join Open Door at the Elgin Human Relations Event-Queerly Beloved
DESCRIPTION:Open Door will be hosting a resource table during this unique program offered through the Elgin Human Relations Commission. Stop by and say hi and pick up information.  This will be an inspiring event\, helping us create safer spaces for the LGBTQ+ community. \n 
URL:https://odhcil.org/event/join-open-door-at-the-elgin-human-relations-event-queerly-beloved/
LOCATION:Heritage Ballroom -Centre of Elgin\, 100 Symphony Way\, Elglin\, Illinois\, 60120
CATEGORIES:Community
ATTACH;FMTTYPE=image/png:https://odhcil.org/wp-content/uploads/2025/04/Open-Door-Promotion-Queerly-Beloved-1.png
ORGANIZER;CN="Marcos Bostho":MAILTO:Marcosb@odhcil.org
END:VEVENT
BEGIN:VEVENT
DTSTART;TZID=UTC:20250530T090000
DTEND;TZID=UTC:20250530T170000
DTSTAMP:20260423T212338
CREATED:20250305T191756Z
LAST-MODIFIED:20250425T172407Z
UID:29744-1748595600-1748624400@odhcil.org
SUMMARY:Know Your Status. Prevent the Spread. Free HIV Testing by Open Door Health Center held at Broken Chains Counseling Center
DESCRIPTION:
URL:https://odhcil.org/event/know-your-status-prevent-the-spread-free-hiv-testing-by-open-door-health-center-held-at-broken-chains-counseling-center-3/
LOCATION:Broken Chains Counseling\, 164 Division St. Suite 411\, Elgin\, IL\, 60120\, United States
CATEGORIES:Community,Medical
ATTACH;FMTTYPE=image/png:https://odhcil.org/wp-content/uploads/2025/03/Flyer-Testing-at-Broken-Chains-1.png
ORGANIZER;CN="Jamie Venson":MAILTO:Jamie@opendoorclinic.org
END:VEVENT
BEGIN:VEVENT
DTSTART;TZID=UTC:20250517T130000
DTEND;TZID=UTC:20250517T150000
DTSTAMP:20260423T212338
CREATED:20250418T140020Z
LAST-MODIFIED:20250425T172501Z
UID:29820-1747486800-1747494000@odhcil.org
SUMMARY:Celebration of Asian American & Pacific Islander Heritage: Culture\, Connection & Creativity
DESCRIPTION:Enjoy music\, food and learn the culture of various Asian countries in honor of Asian American and Pacific Islander Heritage month. Open Door Health Center of Illinois will have a table with information on services\, testing\, HIV/AIDS and STIs. Stop by and say hi!
URL:https://odhcil.org/event/celebration-of-asian-american-pacific-islander-heritage-culture-connection-creativity/
LOCATION:Gail Borden Public Library\, 270 N. Grove Avenue\, Elgin\, IL\, 60120\, United States
CATEGORIES:Community
ATTACH;FMTTYPE=image/jpeg:https://odhcil.org/wp-content/uploads/2025/04/Asian-pacific-american-heritage-month.jpg
ORGANIZER;CN="Marcos Bostho":MAILTO:Marcosb@odhcil.org
END:VEVENT
BEGIN:VEVENT
DTSTART;TZID=UTC:20250515T110000
DTEND;TZID=UTC:20250515T130000
DTSTAMP:20260423T212338
CREATED:20250421T145255Z
LAST-MODIFIED:20250425T172742Z
UID:29849-1747306800-1747314000@odhcil.org
SUMMARY:Open Door Health Center of Illinois -Free & Confidential HIV Testing at Royal Plant Care
DESCRIPTION:Open Door Health Center of Illinois has partnered with Royal Plant Care to offer free and confidential HIV testing to our community. \nKnow Your Status. Prevent the Spread.
URL:https://odhcil.org/event/open-door-health-center-of-illinois-free-confidential-hiv-testing-at-royal-plant-care/
LOCATION:Royal Plant Care\, 54 National St. Suite A\, Elgin\, 60123`\, United States
CATEGORIES:Community,Medical
ATTACH;FMTTYPE=image/jpeg:https://odhcil.org/wp-content/uploads/2025/04/RoyalPlantCareFlyer-3.jpg
ORGANIZER;CN="Jamie Venson":MAILTO:Jamie@opendoorclinic.org
END:VEVENT
BEGIN:VEVENT
DTSTART;TZID=UTC:20250502T090000
DTEND;TZID=UTC:20250502T170000
DTSTAMP:20260423T212338
CREATED:20250418T200510Z
LAST-MODIFIED:20250425T172830Z
UID:29829-1746176400-1746205200@odhcil.org
SUMMARY:Free HIV/AIDS Testing  by Open Door Health Center of Illinois 05/02/2025
DESCRIPTION:Help raise awareness about the importance of\nHIV testing & take control of your sexual health! \nOpen Door Health Center of Illinois is partnering with BEA’s Touch of Style to provide Free and Confidential HIV/AIDS Testing. Stop by on May 2\, 2025. \nKnow Your Status.  Prevent the Spread.
URL:https://odhcil.org/event/free-hiv-aids-testing-by-open-door-health-center-of-illinois-05-02-2025/
LOCATION:BEA’s Touch of Style\, 1 National St.\, Elgin\, 60123\, United States
CATEGORIES:Community,Medical
ATTACH;FMTTYPE=image/png:https://odhcil.org/wp-content/uploads/2025/04/BeasTestingFlyer.png
ORGANIZER;CN="Jamie Venson":MAILTO:Jamie@opendoorclinic.org
END:VEVENT
BEGIN:VEVENT
DTSTART;TZID=UTC:20250425T090000
DTEND;TZID=UTC:20250425T170000
DTSTAMP:20260423T212338
CREATED:20250305T191511Z
LAST-MODIFIED:20250425T173019Z
UID:29742-1745571600-1745600400@odhcil.org
SUMMARY:Know Your Status. Prevent the Spread. Free HIV Testing by Open Door Health Center held at Broken Chains Counseling Center
DESCRIPTION:
URL:https://odhcil.org/event/know-your-status-prevent-the-spread-free-hiv-testing-by-open-door-health-center-held-at-broken-chains-counseling-center-2/
LOCATION:Broken Chains Counseling\, 164 Division St. Suite 411\, Elgin\, IL\, 60120\, United States
CATEGORIES:Community,Medical
ATTACH;FMTTYPE=image/png:https://odhcil.org/wp-content/uploads/2025/03/Flyer-Testing-at-Broken-Chains-1.png
ORGANIZER;CN="Jamie Venson":MAILTO:Jamie@opendoorclinic.org
END:VEVENT
BEGIN:VEVENT
DTSTART;TZID=UTC:20250423T120000
DTEND;TZID=UTC:20250423T150000
DTSTAMP:20260423T212338
CREATED:20250307T155851Z
LAST-MODIFIED:20250307T155851Z
UID:29793-1745409600-1745420400@odhcil.org
SUMMARY:Free HIV Testing at Aurora University provided by Open Door Health Center of IL
DESCRIPTION:Make HIV Testing part of your routine. Open Door Health Center of IL will provide free HIV Testing in the Wellness Center of Aurora University. \n 
URL:https://odhcil.org/event/free-hiv-testing-at-aurora-university-provided-by-open-door-health-center-of-il-3/
LOCATION:Aurora University Wellness Center\, 1317 Marseillaise Pl\, Aurora\, IL\, 60506\, United States
CATEGORIES:Community,Medical
ORGANIZER;CN="Paul Green":MAILTO:paul@opendoorclinic.org
END:VEVENT
BEGIN:VEVENT
DTSTART;TZID=UTC:20250402T120000
DTEND;TZID=UTC:20250402T150000
DTSTAMP:20260423T212338
CREATED:20250307T155229Z
LAST-MODIFIED:20250307T155229Z
UID:29791-1743595200-1743606000@odhcil.org
SUMMARY:Free HIV Testing at Aurora University provided by Open Door Health Center of IL
DESCRIPTION:Make HIV Testing part of your routine. Open Door Health Center of IL will provide free HIV Testing in the Wellness Center of Aurora University. \n 
URL:https://odhcil.org/event/free-hiv-testing-at-aurora-university-provided-by-open-door-health-center-of-il-2/
LOCATION:Aurora University Wellness Center\, 1317 Marseillaise Pl\, Aurora\, IL\, 60506\, United States
CATEGORIES:Community,Medical
ORGANIZER;CN="Paul Green":MAILTO:paul@opendoorclinic.org
END:VEVENT
BEGIN:VEVENT
DTSTART;TZID=UTC:20250330T180000
DTEND;TZID=UTC:20250330T220000
DTSTAMP:20260423T212338
CREATED:20250314T180611Z
LAST-MODIFIED:20250314T180611Z
UID:29807-1743357600-1743372000@odhcil.org
SUMMARY:Trans Day of Visibility: Amplifying Trans Voices
DESCRIPTION:Mark your calendars! Amplify Trans Voices by attending Open Door Health Center’s Trans Day of Visibility Event on March 30\, 2025\, featuring music along with the shared truth of our intergenerational speakers.  Now\, more than ever\, it’s crucial that we stand together during these uncertain times and show our unity through music and activism. \n​​​​​Event is free. Registration is required. Click here. href=”https://opendoorhealthcenterofillinois.my.site.com/opendoorhealthcenterofillinois/s/register-for-event”>here \nFor info on the event\, please contact Paul Green at 331-901-1066.  See you on March 30th @ 6 PM @ the Venue in Aurora\, IL!
URL:https://odhcil.org/event/trans-day-of-visibility-amplifying-trans-voices/
LOCATION:The Venue\, 21 South Broadway\, Aurora\, 60505\, United States
CATEGORIES:Community
ORGANIZER;CN="Paul Green":MAILTO:paul@opendoorclinic.org
END:VEVENT
BEGIN:VEVENT
DTSTART;TZID=UTC:20250328T090000
DTEND;TZID=UTC:20250328T170000
DTSTAMP:20260423T212338
CREATED:20250305T190824Z
LAST-MODIFIED:20250305T190824Z
UID:29739-1743152400-1743181200@odhcil.org
SUMMARY:Know Your Status. Prevent the Spread. Free HIV Testing by Open Door Health Center held at Broken Chains Counseling Center
DESCRIPTION:
URL:https://odhcil.org/event/know-your-status-prevent-the-spread-free-hiv-testing-by-open-door-health-center-held-at-broken-chains-counseling-center/
LOCATION:Broken Chains Counseling\, 164 Division St. Suite 411\, Elgin\, IL\, 60120\, United States
CATEGORIES:Community,Medical
ORGANIZER;CN="Jamie Venson":MAILTO:Jamie@opendoorclinic.org
END:VEVENT
BEGIN:VEVENT
DTSTART;TZID=UTC:20250313T120000
DTEND;TZID=UTC:20250313T150000
DTSTAMP:20260423T212338
CREATED:20250307T155102Z
LAST-MODIFIED:20250307T155102Z
UID:29782-1741867200-1741878000@odhcil.org
SUMMARY:Free HIV Testing at Aurora University provided by Open Door Health Center of IL
DESCRIPTION:Make HIV Testing part of your routine. Open Door Health Center of IL will provide free HIV Testing in the Wellness Center of Aurora University. \n 
URL:https://odhcil.org/event/free-hiv-testing-at-aurora-university-provided-by-open-door-health-center-of-il/
LOCATION:Aurora University Wellness Center\, 1317 Marseillaise Pl\, Aurora\, IL\, 60506\, United States
CATEGORIES:Community,Medical
ORGANIZER;CN="Paul Green":MAILTO:paul@opendoorclinic.org
END:VEVENT
BEGIN:VEVENT
DTSTART;TZID=UTC:20250309T120000
DTEND;TZID=UTC:20250309T150000
DTSTAMP:20260423T212338
CREATED:20250301T143612Z
LAST-MODIFIED:20250301T143854Z
UID:29596-1741521600-1741532400@odhcil.org
SUMMARY:2025 Empower Her: National Women & Girls HIV/AIDS Awareness Day  Program
DESCRIPTION:Registration is required. Click here . \nRefreshments provided.
URL:https://odhcil.org/event/2025-empower-her-national-women-girls-hiv-aids-awareness-day-program/
LOCATION:Open Door Health Center of Illinois Elgin Office\, 1665 Larkin Avenue\, Elgin\, 60123\, United States
CATEGORIES:Community
END:VEVENT
BEGIN:VEVENT
DTSTART;TZID=UTC:20250303T083000
DTEND;TZID=UTC:20250303T163000
DTSTAMP:20260423T212338
CREATED:20250301T145354Z
LAST-MODIFIED:20250301T145354Z
UID:29607-1740990600-1741019400@odhcil.org
SUMMARY:Free STI and HIV Testing-Aurora Office
DESCRIPTION:Every Monday\, Open Door Health Center offers free STI and HIV testing for those who are uninsured in our Aurora office.  Walk Ins are welcome. To make an appointment please call our office. Aurora Office:  24 hour hotline: (630) 264-1819.  Office Hours: 8:30-4:30PM
URL:https://odhcil.org/event/free-sti-and-hiv-testing-aurora-office-8/
LOCATION:Open Door Health Center of Illinois\, 157 S. Lincoln Avenue\, Aurora\, IL\, 60505\, United States
CATEGORIES:Community,Medical
END:VEVENT
BEGIN:VEVENT
DTSTART;TZID=Atlantic/Azores:20250225T083000
DTEND;TZID=Atlantic/Azores:20250225T163000
DTSTAMP:20260423T212338
CREATED:20250221T153527Z
LAST-MODIFIED:20250221T153527Z
UID:29579-1740472200-1740501000@odhcil.org
SUMMARY:Free STD Testing Aurora
DESCRIPTION:Open Door Health Center of Illinois offers FREE STD testing\, including HIV/AIDS at the Aurora Office. Walk In patients are welcome.
URL:https://odhcil.org/event/free-std-testing-aurora/
LOCATION:Open Door Health Center of Illinois\, 157 S. Lincoln Avenue\, Aurora\, IL\, 60505\, United States
CATEGORIES:Community,Medical
END:VEVENT
BEGIN:VEVENT
DTSTART;TZID=UTC:20250222T120000
DTEND;TZID=UTC:20250222T150000
DTSTAMP:20260423T212338
CREATED:20250213T153004Z
LAST-MODIFIED:20250213T153004Z
UID:29568-1740225600-1740236400@odhcil.org
SUMMARY:Re-Scheduled "Did You Know?" Celebration of African American History and HIV/AIDS
DESCRIPTION:
URL:https://odhcil.org/event/re-scheduled-did-you-know-celebration-of-african-american-history-and-hiv-aids/
LOCATION:Open Door Health Center of Illinois\, 157 S. Lincoln Avenue\, Aurora\, IL\, 60505\, United States
CATEGORIES:Community
END:VEVENT
BEGIN:VEVENT
DTSTART;TZID=UTC:20250207T083000
DTEND;TZID=UTC:20250207T163000
DTSTAMP:20260423T212338
CREATED:20250127T111037Z
LAST-MODIFIED:20250127T174304Z
UID:29560-1738917000-1738945800@odhcil.org
SUMMARY:National Black HIV/AIDS Awareness Day-Free Testing February 7\, 2025
DESCRIPTION:
URL:https://odhcil.org/event/national-black-hiv-aids-awareness-day-free-testing-february-7-2025/
LOCATION:Open Door Health Center of Illinois\, 157 S. Lincoln Avenue\, Aurora\, IL\, 60505\, United States
CATEGORIES:Community,Medical
END:VEVENT
BEGIN:VEVENT
DTSTART;TZID=UTC:20241214T150000
DTEND;TZID=UTC:20241214T180000
DTSTAMP:20260423T212338
CREATED:20241202T203725Z
LAST-MODIFIED:20241202T204654Z
UID:29526-1734188400-1734199200@odhcil.org
SUMMARY:CAB Holiday Party
DESCRIPTION:🎉✨ You’re Invited! ✨🎉\nJoin us for the CAB Holiday Party hosted by Open Door Health Center of Illinois! \n📅 Date: December 14th\, 2024\n⏰ Time: 3:00 PM – 6:00 PM\n📍 Location: Zion Evangelical Lutheran Church\n330 Griswold St\, Elgin\, IL 60123 \nThis event is FREE\, but registration is required. Scan the QR code on the flyer or CLICK HERE to secure your spot! \nLet’s celebrate the season with joy\, community\, and holiday cheer! 🌟🎄 \nFor more information:\n📱 Call or text Carmen Earsey: (331) 222-6062 \nWe can’t wait to see you there! 🎁🎉
URL:https://odhcil.org/event/cab-holiday-party/
LOCATION:Zion Evangelical Lutheran Church\, 330 Griswold St\, Elgin\, IL\, 60123\, United States
CATEGORIES:Community
END:VEVENT
END:VCALENDAR