BEGIN:VCALENDAR
VERSION:2.0
PRODID:-//Open Door Health Center of Illinois - ECPv6.15.2//NONSGML v1.0//EN
CALSCALE:GREGORIAN
METHOD:PUBLISH
X-ORIGINAL-URL:https://odhcil.org
X-WR-CALDESC:Events for Open Door Health Center of Illinois
REFRESH-INTERVAL;VALUE=DURATION:PT1H
X-Robots-Tag:noindex
X-PUBLISHED-TTL:PT1H
BEGIN:VTIMEZONE
TZID:UTC
BEGIN:STANDARD
TZOFFSETFROM:+0000
TZOFFSETTO:+0000
TZNAME:UTC
DTSTART:20240101T000000
END:STANDARD
END:VTIMEZONE
BEGIN:VEVENT
DTSTART;TZID=UTC:20250222T120000
DTEND;TZID=UTC:20250222T150000
DTSTAMP:20260424T004904
CREATED:20250213T153004Z
LAST-MODIFIED:20250213T153004Z
UID:29568-1740225600-1740236400@odhcil.org
SUMMARY:Re-Scheduled "Did You Know?" Celebration of African American History and HIV/AIDS
DESCRIPTION:
URL:https://odhcil.org/event/re-scheduled-did-you-know-celebration-of-african-american-history-and-hiv-aids/
LOCATION:Open Door Health Center of Illinois\, 157 S. Lincoln Avenue\, Aurora\, IL\, 60505\, United States
CATEGORIES:Community
END:VEVENT
BEGIN:VEVENT
DTSTART;TZID=UTC:20250207T083000
DTEND;TZID=UTC:20250207T163000
DTSTAMP:20260424T004904
CREATED:20250127T111037Z
LAST-MODIFIED:20250127T174304Z
UID:29560-1738917000-1738945800@odhcil.org
SUMMARY:National Black HIV/AIDS Awareness Day-Free Testing February 7\, 2025
DESCRIPTION:
URL:https://odhcil.org/event/national-black-hiv-aids-awareness-day-free-testing-february-7-2025/
LOCATION:Open Door Health Center of Illinois\, 157 S. Lincoln Avenue\, Aurora\, IL\, 60505\, United States
CATEGORIES:Community,Medical
END:VEVENT
BEGIN:VEVENT
DTSTART;TZID=UTC:20241214T150000
DTEND;TZID=UTC:20241214T180000
DTSTAMP:20260424T004904
CREATED:20241202T203725Z
LAST-MODIFIED:20241202T204654Z
UID:29526-1734188400-1734199200@odhcil.org
SUMMARY:CAB Holiday Party
DESCRIPTION:🎉✨ You’re Invited! ✨🎉\nJoin us for the CAB Holiday Party hosted by Open Door Health Center of Illinois! \n📅 Date: December 14th\, 2024\n⏰ Time: 3:00 PM – 6:00 PM\n📍 Location: Zion Evangelical Lutheran Church\n330 Griswold St\, Elgin\, IL 60123 \nThis event is FREE\, but registration is required. Scan the QR code on the flyer or CLICK HERE to secure your spot! \nLet’s celebrate the season with joy\, community\, and holiday cheer! 🌟🎄 \nFor more information:\n📱 Call or text Carmen Earsey: (331) 222-6062 \nWe can’t wait to see you there! 🎁🎉
URL:https://odhcil.org/event/cab-holiday-party/
LOCATION:Zion Evangelical Lutheran Church\, 330 Griswold St\, Elgin\, IL\, 60123\, United States
CATEGORIES:Community
END:VEVENT
END:VCALENDAR